Workbook
Name Print_Titles_MI: FENCE!$1:$2

Sheet FENCE
A1: ref | B1: DESCRIPTION | C1: QTY | D1: UNIT | E1: RATE | F1: AMOUNT
E2: N k | F2: N k k
B3: BILL Nr 2 - FENCE
B4: SUBSTRUCTURES (All Provisional)
A5: A | B5: Carefully remove existing wire mesh and dispose off as directed | C5: 45 | D5: m | F5: =E5*C5 -> 0
A7: B | B7: Carefully clear and level sites of any debris and dispose off as directed | D7: Item | E7: 150000 | F7: =E7 -> 150000
A9: C | B9: Excavate pit for column bases | C9: 10 | D9: m³ | F9: =E9*C9 -> 0
A11: D | B11: Excavate foundation trenches | C11: 52 | D11: m³ | F11: =E11*C11 -> 0
A13: E | B13: Return fill and well ram excavated material around foundation | C13: 5 | D13: m³ | F13: =E13*C13 -> 0
A15: F | B15: Load up surplus excavated material and spread and level on site where directed | C15: 22 | D15: m³ | F15: =E15*C15 -> 0
A17: G | B17: "Dieldrex" anti-termite treatment to excavation and foundations | D17: Item | E17: 30000 | F17: 30000
A19: H | B19: 50mm Plain insitu concrete (Grade 15) blinding under bed and bases. | C19: 4 | D19: m³ | F19: =E19*C19 -> 0
A21: I | B21: Plain in-situ concrete (Grade 20) in trench foundations | C21: 20 | D21: m³ | F21: =E21*C21 -> 0
B22: In-situ reinforced concrete (Grade 25) compr strength 25N/mm2
A24: J | B24: Column bases | C24: 4 | D24: m³ | E24: =E21 -> 0 | F24: =E24*C24 -> 0
A26: K | B26: Columns | C26: 2 | D26: m³ | E26: =E24 -> 0 | F26: =E26*C26 -> 0
F27: =E27*C27 -> 0
B28: Formwork | F28: =E28*C28 -> 0
F29: =E29*C29 -> 0
A30: L | B30: Sides of column bases | C30: 7 | D30: m² | F30: =E30*C30 -> 0
F31: =E31*C31 -> 0
A32: M | B32: Sides of columns | C32: 5 | D32: m² | F32: =E32*C32 -> 0
A34: N | B34: Sides of capping | D34: Item | E34: 90000 | F34: =E34 -> 90000
B36: SUBSTRUCTURE TO SUMMARY
F37: =E37*C37 -> 0
B38: High tensile steel reinforcement (design stress 425N/mm2) in bases columns, foundations and colums | F38: =E38*C38 -> 0
F39: =E39*C39 -> 0
A40: A | B40: 12mm Diameter reinforcement | C40: 21 | D40: Kg | F40: =E40*C40 -> 0
F41: =E41*C41 -> 0
A42: B | B42: 8mm Diameter mild steel links | C42: 18 | D42: Kg | F42: =E42*C42 -> 0
F43: =E43*C43 -> 0
B44: Hollow blockwalling in cement mortar
F45: =E45*C45 -> 0
A46: C | B46: 230mm Hollow blockwalling | C46: 300 | D46: m² | F46: =E46*C46 -> 0
F47: =E47*C47 -> 0
A48: D | B48: 230mm Ditto filled solid with concrete (Grade 15) | C48: 64 | D48: m² | F48: =E48*C48 -> 0
B50: Precast concrete (grade 20) cast in convenient lenghts reinforced as necessary and finished fairfaced all round
A51: E | B51: Capping 350mm wide x 75mm thick twice rebated | C51: 143 | D51: m | F51: =E51*C51 -> 0
B53: Tyrolean rendering as described in ordinary cement including narrow widths
A55: F | B55: Walls | C55: 601 | D55: m² | F55: =E55*C55 -> 0
F56: =E56*C56 -> 0
B57: Smooth rendering (15mm thick) including narrow widths | F57: =E57*C57 -> 0
A59: G | B59: Wall | C59: 152 | D59: m² | F59: =E59*C59 -> 0
A61: H | B61: Columns in two coats of 15mm each coat | C61: 5 | D61: m² | F61: =E61*C61 -> 0
F62: =E62*C62 -> 0
B63: Prepare prime and apply emulsion paint in accordance with the manufacturesr's instructions | F63: =E63*C63 -> 0
F64: =E64*C64 -> 0
A65: I | B65: Rendered walls | C65: 601 | D65: m² | F65: =E65*C65 -> 0
A68: A | B68: Approved concertina NATO mesh tied to and including 600 x 600mm trangular bracket comprising 60 x 60mm angle with 600mm long tail at center | C68: 135 | D68: m | F68: =E68*C68 -> 0
A70: B | B70: Y- Shape angle iron build into concrete coping to recive Nato mesh at 550mm center to center | C70: 45 | D70: Nr | F70: =E70*C70 -> 0
A72: C | B72: Provide a Provisional Sum for Metal Gates Grilles to be expended as directed | E72: Item | F72: 1300000
B74: Superstructure to summary
B77: AIR-CONDITIONING SYSTEM
A78: D | B78: Supply and insatll LG Daul Inverter units 1.5hp split units | C78: 4 | D78: Nr | F78: =E78*C78 -> 0
F79: =E79*C79 -> 0
A80: E | B80: Reinstall and service Ac's | C80: 8 | D80: Nr | F80: =E80*C80 -> 0
B82: Airconditioning to summary | F82: =SUM(F78:F81) -> 0
B84: ELECTRICAL SERVICES
A86: F | B86: Redressing of input distribution load center cables and replacement of faulty or wornout terminations at changeover point | C86: 1 | D86: Item | E86: 220000 | F86: =E86*C86 -> 220000
A88: G | B88: Replacement of 200amp cutout fuses complete with board frame | C88: 3 | D88: Nr | F88: =E88*C88 -> 0
A90: H | B90: Purchase and install 50mm 4-core armored cable | C90: 20 | D90: m | F90: =E90*C90 -> 0
A92: I | B92: Purchase and install 70mm 4-core armored cable | C92: 25 | D92: m | F92: =E92*C92 -> 0
A94: J | B94: Purchase and install 400watts radial halogen lamp security lights complete with poles and cabling to power sources | C94: 6 | D94: Pcs | F94: =E94*C94 -> 0
A96: K | B96: Replacement of grounding cable | C96: 30 | D96: m | F96: =E96*C96 -> 0
A98: L | B98: Transportation and Labour | C98: 1 | D98: Lot | E98: 550000 | F98: =E98*C98 -> 550000
B100: Electrical services to summary
B102: CCTV
A104: 1 | B104: 4mp ip Bullet Cameras Night Vision Camera (IR) PoE Spec:- dual-stream, IP66, DC12V & PoE, WDR, DWDR, 3D DNR, BLC, Intrusion-Line Crossing Detection, IR range: up t | C104: 2 | D104: Nr | F104: =E104*C104 -> 0
B106: Network Cabling and materials Cabling Accessories: -PVCs, Adaptable Boxes, Connector 4 Spools of Cat6e UTP Cables, clips, Fasteners, Spiral PVC, Tie locks, Sticktapes | D106: Item | E106: 220000 | F106: =E106 -> 220000
B109: CCTV to summary

Sheet SUMMARY
A1: SUMMARY
B2: Collection
B5: SUBSTRUCTURE | F5: =FENCE!F36 -> 0
B8: SUPERSTRUCTURE | F8: =FENCE!F74 -> 0
B11: AIRCONDITONING | F11: =FENCE!F82 -> 0
B14: ELECTRICAL SERVICES | F14: =FENCE!F100 -> 0
B17: CCTV | F17: =FENCE!F109 -> 0
B20: Contingency | F20: 500000
B24: BILL - FENCE CARRIED TO MAIN SUMMARY
